BEGIN:VCALENDAR
VERSION:2.0
PRODID:-//veranstaltungen-augsburg.de - ECPv6.15.20//NONSGML v1.0//EN
CALSCALE:GREGORIAN
METHOD:PUBLISH
X-WR-CALNAME:veranstaltungen-augsburg.de
X-ORIGINAL-URL:https://veranstaltungen-augsburg.de
X-WR-CALDESC:Veranstaltungen für veranstaltungen-augsburg.de
REFRESH-INTERVAL;VALUE=DURATION:PT1H
X-Robots-Tag:noindex
X-PUBLISHED-TTL:PT1H
BEGIN:VTIMEZONE
TZID:Europe/Berlin
BEGIN:DAYLIGHT
TZOFFSETFROM:+0100
TZOFFSETTO:+0200
TZNAME:CEST
DTSTART:20250330T010000
END:DAYLIGHT
BEGIN:STANDARD
TZOFFSETFROM:+0200
TZOFFSETTO:+0100
TZNAME:CET
DTSTART:20251026T010000
END:STANDARD
BEGIN:DAYLIGHT
TZOFFSETFROM:+0100
TZOFFSETTO:+0200
TZNAME:CEST
DTSTART:20260329T010000
END:DAYLIGHT
BEGIN:STANDARD
TZOFFSETFROM:+0200
TZOFFSETTO:+0100
TZNAME:CET
DTSTART:20261025T010000
END:STANDARD
BEGIN:DAYLIGHT
TZOFFSETFROM:+0100
TZOFFSETTO:+0200
TZNAME:CEST
DTSTART:20270328T010000
END:DAYLIGHT
BEGIN:STANDARD
TZOFFSETFROM:+0200
TZOFFSETTO:+0100
TZNAME:CET
DTSTART:20271031T010000
END:STANDARD
END:VTIMEZONE
BEGIN:VEVENT
DTSTART;TZID=Europe/Berlin:20260426T103000
DTEND;TZID=Europe/Berlin:20260426T123000
DTSTAMP:20260422T195543
CREATED:20260415T182327Z
LAST-MODIFIED:20260415T182327Z
UID:10028754-1777199400-1777206600@veranstaltungen-augsburg.de
SUMMARY:Altstadttour: Ein unvergesslicher Streifzug durch die Stadtgeschichte
DESCRIPTION:Erkundungstour durch das historische Augsburg mit seinen Sehenswürdigkeiten! \nAugsburg hat über 2000 Jahre Geschichte — und die steckt nicht nur in Museen\, sondern mitten in der Stadt. Warum ist die Fuggerei die älteste Sozialsiedlung der Welt? Was haben Jakob Fugger\, Bertolt Brecht und Mozart gemeinsam? Und welche Geschichten erzählen Perlachturm\, Rathaus und Maximilianstraße\, wenn man genau hinhört? \nDieser Stadtrundgang führt zu den architektonischen Highlights der Innenstadt — kurzweilig\, lehrreich und mit dem Charme einer Stadt\, die mehr zu bieten hat als ihre Fassaden vermuten lassen. \nErwachsene: 16 € p.P.\nErmäßigt: 14 € p.P.\n[Ermäßigt: Rentner\, Schüler\, Studenten\, Menschen mit Behinderung und deren Begleitperson] \nMehr Infos und Anmeldung unter: www.stadtwege.de/ \n  \nFoto: Stadtwege Augsburg
URL:https://veranstaltungen-augsburg.de/event/altstadttour-ein-unvergesslicher-streifzug-durch-die-stadtgeschichte/2026-04-26/
LOCATION:Augustusbrunnen\, Rathausplatz\, Augsburg\, 86150
CATEGORIES:Führungen,Stadtführungen
ATTACH;FMTTYPE=image/jpeg:https://veranstaltungen-augsburg.de/wp-content/uploads/2023/08/Altstadttour_copyright_Stadtwege-Augsburg_660x528.jpg
ORGANIZER;CN="Stadtwege zur faszinierenden Seite von Augsburg":MAILTO:info@stadtwege.de
END:VEVENT
BEGIN:VEVENT
DTSTART;TZID=Europe/Berlin:20260509T143000
DTEND;TZID=Europe/Berlin:20260509T163000
DTSTAMP:20260422T195543
CREATED:20260415T182327Z
LAST-MODIFIED:20260415T182327Z
UID:10028755-1778337000-1778344200@veranstaltungen-augsburg.de
SUMMARY:Altstadttour: Ein unvergesslicher Streifzug durch die Stadtgeschichte
DESCRIPTION:Erkundungstour durch das historische Augsburg mit seinen Sehenswürdigkeiten! \nAugsburg hat über 2000 Jahre Geschichte — und die steckt nicht nur in Museen\, sondern mitten in der Stadt. Warum ist die Fuggerei die älteste Sozialsiedlung der Welt? Was haben Jakob Fugger\, Bertolt Brecht und Mozart gemeinsam? Und welche Geschichten erzählen Perlachturm\, Rathaus und Maximilianstraße\, wenn man genau hinhört? \nDieser Stadtrundgang führt zu den architektonischen Highlights der Innenstadt — kurzweilig\, lehrreich und mit dem Charme einer Stadt\, die mehr zu bieten hat als ihre Fassaden vermuten lassen. \nErwachsene: 16 € p.P.\nErmäßigt: 14 € p.P.\n[Ermäßigt: Rentner\, Schüler\, Studenten\, Menschen mit Behinderung und deren Begleitperson] \nMehr Infos und Anmeldung unter: www.stadtwege.de/ \n  \nFoto: Stadtwege Augsburg
URL:https://veranstaltungen-augsburg.de/event/altstadttour-ein-unvergesslicher-streifzug-durch-die-stadtgeschichte/2026-05-09/
LOCATION:Augustusbrunnen\, Rathausplatz\, Augsburg\, 86150
CATEGORIES:Führungen,Stadtführungen
ATTACH;FMTTYPE=image/jpeg:https://veranstaltungen-augsburg.de/wp-content/uploads/2023/08/Altstadttour_copyright_Stadtwege-Augsburg_660x528.jpg
ORGANIZER;CN="Stadtwege zur faszinierenden Seite von Augsburg":MAILTO:info@stadtwege.de
END:VEVENT
BEGIN:VEVENT
DTSTART;TZID=Europe/Berlin:20260607T103000
DTEND;TZID=Europe/Berlin:20260607T123000
DTSTAMP:20260422T195543
CREATED:20260415T182327Z
LAST-MODIFIED:20260415T182327Z
UID:10028756-1780828200-1780835400@veranstaltungen-augsburg.de
SUMMARY:Altstadttour: Ein unvergesslicher Streifzug durch die Stadtgeschichte
DESCRIPTION:Erkundungstour durch das historische Augsburg mit seinen Sehenswürdigkeiten! \nAugsburg hat über 2000 Jahre Geschichte — und die steckt nicht nur in Museen\, sondern mitten in der Stadt. Warum ist die Fuggerei die älteste Sozialsiedlung der Welt? Was haben Jakob Fugger\, Bertolt Brecht und Mozart gemeinsam? Und welche Geschichten erzählen Perlachturm\, Rathaus und Maximilianstraße\, wenn man genau hinhört? \nDieser Stadtrundgang führt zu den architektonischen Highlights der Innenstadt — kurzweilig\, lehrreich und mit dem Charme einer Stadt\, die mehr zu bieten hat als ihre Fassaden vermuten lassen. \nErwachsene: 16 € p.P.\nErmäßigt: 14 € p.P.\n[Ermäßigt: Rentner\, Schüler\, Studenten\, Menschen mit Behinderung und deren Begleitperson] \nMehr Infos und Anmeldung unter: www.stadtwege.de/ \n  \nFoto: Stadtwege Augsburg
URL:https://veranstaltungen-augsburg.de/event/altstadttour-ein-unvergesslicher-streifzug-durch-die-stadtgeschichte/2026-06-07/
LOCATION:Augustusbrunnen\, Rathausplatz\, Augsburg\, 86150
CATEGORIES:Führungen,Stadtführungen
ATTACH;FMTTYPE=image/jpeg:https://veranstaltungen-augsburg.de/wp-content/uploads/2023/08/Altstadttour_copyright_Stadtwege-Augsburg_660x528.jpg
ORGANIZER;CN="Stadtwege zur faszinierenden Seite von Augsburg":MAILTO:info@stadtwege.de
END:VEVENT
BEGIN:VEVENT
DTSTART;TZID=Europe/Berlin:20260628T103000
DTEND;TZID=Europe/Berlin:20260628T123000
DTSTAMP:20260422T195543
CREATED:20260415T182327Z
LAST-MODIFIED:20260415T182327Z
UID:10028757-1782642600-1782649800@veranstaltungen-augsburg.de
SUMMARY:Altstadttour: Ein unvergesslicher Streifzug durch die Stadtgeschichte
DESCRIPTION:Erkundungstour durch das historische Augsburg mit seinen Sehenswürdigkeiten! \nAugsburg hat über 2000 Jahre Geschichte — und die steckt nicht nur in Museen\, sondern mitten in der Stadt. Warum ist die Fuggerei die älteste Sozialsiedlung der Welt? Was haben Jakob Fugger\, Bertolt Brecht und Mozart gemeinsam? Und welche Geschichten erzählen Perlachturm\, Rathaus und Maximilianstraße\, wenn man genau hinhört? \nDieser Stadtrundgang führt zu den architektonischen Highlights der Innenstadt — kurzweilig\, lehrreich und mit dem Charme einer Stadt\, die mehr zu bieten hat als ihre Fassaden vermuten lassen. \nErwachsene: 16 € p.P.\nErmäßigt: 14 € p.P.\n[Ermäßigt: Rentner\, Schüler\, Studenten\, Menschen mit Behinderung und deren Begleitperson] \nMehr Infos und Anmeldung unter: www.stadtwege.de/ \n  \nFoto: Stadtwege Augsburg
URL:https://veranstaltungen-augsburg.de/event/altstadttour-ein-unvergesslicher-streifzug-durch-die-stadtgeschichte/2026-06-28/
LOCATION:Augustusbrunnen\, Rathausplatz\, Augsburg\, 86150
CATEGORIES:Führungen,Stadtführungen
ATTACH;FMTTYPE=image/jpeg:https://veranstaltungen-augsburg.de/wp-content/uploads/2023/08/Altstadttour_copyright_Stadtwege-Augsburg_660x528.jpg
ORGANIZER;CN="Stadtwege zur faszinierenden Seite von Augsburg":MAILTO:info@stadtwege.de
END:VEVENT
END:VCALENDAR