BEGIN:VCALENDAR
VERSION:2.0
PRODID:-//veranstaltungen-augsburg.de - ECPv6.15.20//NONSGML v1.0//EN
CALSCALE:GREGORIAN
METHOD:PUBLISH
X-ORIGINAL-URL:https://veranstaltungen-augsburg.de
X-WR-CALDESC:Veranstaltungen für veranstaltungen-augsburg.de
REFRESH-INTERVAL;VALUE=DURATION:PT1H
X-Robots-Tag:noindex
X-PUBLISHED-TTL:PT1H
BEGIN:VTIMEZONE
TZID:Europe/Berlin
BEGIN:DAYLIGHT
TZOFFSETFROM:+0100
TZOFFSETTO:+0200
TZNAME:CEST
DTSTART:20230326T010000
END:DAYLIGHT
BEGIN:STANDARD
TZOFFSETFROM:+0200
TZOFFSETTO:+0100
TZNAME:CET
DTSTART:20231029T010000
END:STANDARD
BEGIN:DAYLIGHT
TZOFFSETFROM:+0100
TZOFFSETTO:+0200
TZNAME:CEST
DTSTART:20240331T010000
END:DAYLIGHT
BEGIN:STANDARD
TZOFFSETFROM:+0200
TZOFFSETTO:+0100
TZNAME:CET
DTSTART:20241027T010000
END:STANDARD
BEGIN:DAYLIGHT
TZOFFSETFROM:+0100
TZOFFSETTO:+0200
TZNAME:CEST
DTSTART:20250330T010000
END:DAYLIGHT
BEGIN:STANDARD
TZOFFSETFROM:+0200
TZOFFSETTO:+0100
TZNAME:CET
DTSTART:20251026T010000
END:STANDARD
END:VTIMEZONE
BEGIN:VEVENT
DTSTART;VALUE=DATE:20241112
DTEND;VALUE=DATE:20241113
DTSTAMP:20260422T224402
CREATED:20241104T075414Z
LAST-MODIFIED:20250623T151829Z
UID:10023171-1731369600-1731455999@veranstaltungen-augsburg.de
SUMMARY:Alle aktuellen Ausstellungen hier finden
DESCRIPTION:Viele schöne Ausstellungen in Museen und Kulturstätten in Augsburg und der Region: \nKlickt euch >> HIER << rein. \n 
URL:https://veranstaltungen-augsburg.de/event/alle-ausstellungen-fuer-augsburg-und-region/2024-11-12/
ATTACH;FMTTYPE=image/jpeg:https://veranstaltungen-augsburg.de/wp-content/uploads/2023/10/buttons_PP_web_Termin_Ausstellung.jpg
END:VEVENT
BEGIN:VEVENT
DTSTART;TZID=Europe/Berlin:20241112T093000
DTEND;TZID=Europe/Berlin:20241112T103000
DTSTAMP:20260422T224402
CREATED:20240625T215920Z
LAST-MODIFIED:20240928T093254Z
UID:10018105-1731403800-1731407400@veranstaltungen-augsburg.de
SUMMARY:Onlinekurs: Qi Gong - Lebensenergie & Freude
DESCRIPTION:Qigong ist eine Säule der traditionell chinesischen Medizin und dient der Gesunderhaltung und Prävention. Durch Klopfübungen\, Massagen und leichte Qigong-Übungen sollen der Fluss unserer Lebensenergie “Qi” im Körper aktiviert und Blockaden gelöst werden. Wir lernen das “Qi” zu spüren. \nDie Teilnahme ist altersunabhängig und auch für Menschen mit körperlichen Einschränkungen möglich. Alles was körperlich nicht ausgeführt werden kann\, kann in der Vorstellung mitgemacht werden. Die Übungen können im Sitzen wie im Stehen ausgeführt werden und wunderbar in den Alltag integriert werden. \nBequeme Kleidung\, warme Socken\, evtl. Decke bitte mitbringen. \nNotwendig für die Online-Kursteilnahme: Laptop/PC/Tablet mit Kamera und Mikrofon\, stabile Internetverbindung/Wlan. \nDer Online-Kurs findet über das Videokonferenztool zoom statt. Die Zugangsdaten werden Ihnen nach der Anmeldung zugeschickt. \nLeitung: Irene von Guilleaume\nNummer: 242ON301q02 \nPreis:\n31\,60 € (gültig bis 6 Teilnehmende)\n29\,00 € (gültig ab 7 Teilnehmenden) \nFoto: Adobe Stock\, casagrandelor
URL:https://veranstaltungen-augsburg.de/event/onlinekurs-qi-gong-lebensenergie-freude-am-leben-2/2024-11-12/
LOCATION:Online
CATEGORIES:Achtsamkeit,Gesundheit
ATTACH;FMTTYPE=image/jpeg:https://veranstaltungen-augsburg.de/wp-content/uploads/2023/07/Qi_Gong_AdobeStock_147230823_casagrandelor_web.jpg
END:VEVENT
BEGIN:VEVENT
DTSTART;TZID=Europe/Berlin:20241112T110000
DTEND;TZID=Europe/Berlin:20241112T130000
DTSTAMP:20260422T224402
CREATED:20231227T103410Z
LAST-MODIFIED:20231227T103410Z
UID:10010736-1731409200-1731416400@veranstaltungen-augsburg.de
SUMMARY:Stadtführung: Auf den Spuren von Fugger\, Mozart und Brecht - unterwegs in der Welterbestadt Augsburg
DESCRIPTION:Die öffentliche Stadtführung führt auf den Spuren der Fugger zum Augustusbrunnen und in den Goldenen Saal im Rathaus\, in die Fuggerhäuser\, die Handwerkeraltstadt entlang der Lechkanäle als Teil des UNESCO-Welterbes und in die Fuggerei. \nDie Eintrittspreise für die Fuggerei und für den Goldenen Saal sind im Eintrittspreis enthalten.\nBitte beachten: Ab August 2024 Goldener Saal/Rathaus wegen Sanierung geschlossen\, deswegen als Ersatz Dienstag – Freitag Ausstellung „Römerlager“\, Samstag & Sonntag Brechthaus) \nDauer: 2 Stunden \nTermine Januar – März:\nMontag – Donnerstag 11 Uhr (DE)\nFreitag – Sonntag 11 Uhr (DE) und 14 Uhr (DE/EN) \nTermine April – Dezember:\nMontag – Sonntag 11 Uhr (DE) und 14 Uhr (DE/EN) \nHinweis:\nAm 24.12. findet der öffentliche Stadtrundgang nur um 11 Uhr (DE) statt.\nAm 25.\, 26. Dezember & 01. Januar findet kein öffentlicher Stadtrundgang statt \nPreise:\nErwachsene 16 € p.P.\nErm. 14 € p.P. (Schüler/Studenten/Behinderte)\nFamilien (2 Erwachsene/2 Kinder bis 14 Jahre) 40 € \nTeilnehmer: mind. 7 Personen \nTreffpunkt: Tourist-Information am Rathausplatz \nAb 2024: Schwerpunkt UNESCO-Welterbe: Sonntag – Donnerstag 11 Uhr richtet sich beim öffentlichen Rundgang ein besonderer Fokus auf das Augsburger UNESCO-Welterbe „Augsburger Wassermanagement-System“. Es werden die selben Sehenswürdigkeiten besichtigt wie an allen anderen Terminen. Die Guides informieren jedoch besonders ausführlich zu Augsburgs historischer Wasserwirtschaft. \nAnmeldung:\nOnline-Tickets via Homepage\noder bis spätestens 30 Minuten vor Führungsbeginn direkt in der Tourist Information \n  \nFoto: AdobeStock / Massimo Santi
URL:https://veranstaltungen-augsburg.de/event/stadtfuehrung-auf-den-spuren-von-fugger-mozart-und-brecht-unterwegs-in-der-welterbestadt-augsburg-211/2024-11-12/
LOCATION:Tourist-Information am Rathausplatz\, Rathausplatz 1\, Augsburg\, 86150\, Deutschland
CATEGORIES:Führungen,Kultur,Stadtführungen
ATTACH;FMTTYPE=image/jpeg:https://veranstaltungen-augsburg.de/wp-content/uploads/2023/08/Fuggerei_AdobeStock_231230513_Massimo-Santi_660x528.jpg
ORGANIZER;CN="Regio Augsburg Tourismus GmbH":MAILTO:tourismus@regio-augsburg.de
END:VEVENT
BEGIN:VEVENT
DTSTART;TZID=Europe/Berlin:20241112T140000
DTEND;TZID=Europe/Berlin:20241112T160000
DTSTAMP:20260422T224402
CREATED:20231227T104143Z
LAST-MODIFIED:20231227T104143Z
UID:10011813-1731420000-1731427200@veranstaltungen-augsburg.de
SUMMARY:Stadtführung: Auf den Spuren von Fugger\, Mozart und Brecht - unterwegs in der Welterbestadt Augsburg
DESCRIPTION:Die öffentliche Stadtführung führt auf den Spuren der Fugger zum Augustusbrunnen und in den Goldenen Saal im Rathaus\, in die Fuggerhäuser\, die Handwerkeraltstadt entlang der Lechkanäle als Teil des UNESCO-Welterbes und in die Fuggerei. \nDie Eintrittspreise für die Fuggerei und für den Goldenen Saal sind im Eintrittspreis enthalten.\nBitte beachten: Ab August 2024 Goldener Saal/Rathaus wegen Sanierung geschlossen\, deswegen als Ersatz Dienstag – Freitag Ausstellung „Römerlager“\, Samstag & Sonntag Brechthaus) \nDauer: 2 Stunden \nTermine Januar – März:\nMontag – Donnerstag 11 Uhr (DE)\nFreitag – Sonntag 11 Uhr (DE) und 14 Uhr (DE/EN) \nTermine April – Dezember:\nMontag – Sonntag 11 Uhr (DE) und 14 Uhr (DE/EN) \nHinweis:\nAm 24.12. findet der öffentliche Stadtrundgang nur um 11 Uhr (DE) statt.\nAm 25.\, 26. Dezember & 01. Januar findet kein öffentlicher Stadtrundgang statt \nPreise:\nErwachsene 16 € p.P.\nErm. 14 € p.P. (Schüler/Studenten/Behinderte)\nFamilien (2 Erwachsene/2 Kinder bis 14 Jahre) 40 € \nTeilnehmer: mind. 7 Personen \nTreffpunkt: Tourist-Information am Rathausplatz \nAb 2024: Schwerpunkt UNESCO-Welterbe: Sonntag – Donnerstag 11 Uhr richtet sich beim öffentlichen Rundgang ein besonderer Fokus auf das Augsburger UNESCO-Welterbe „Augsburger Wassermanagement-System“. Es werden die selben Sehenswürdigkeiten besichtigt wie an allen anderen Terminen. Die Guides informieren jedoch besonders ausführlich zu Augsburgs historischer Wasserwirtschaft. \nAnmeldung:\nOnline-Tickets via Homepage\noder bis spätestens 30 Minuten vor Führungsbeginn direkt in der Tourist Information \n  \nFoto: AdobeStock / Massimo Santi
URL:https://veranstaltungen-augsburg.de/event/stadtfuehrung-auf-den-spuren-von-fugger-mozart-und-brecht-unterwegs-in-der-welterbestadt-augsburg-216/2024-11-12/
LOCATION:Tourist-Information am Rathausplatz\, Rathausplatz 1\, Augsburg\, 86150\, Deutschland
CATEGORIES:Führungen,Kultur,Stadtführungen
ATTACH;FMTTYPE=image/jpeg:https://veranstaltungen-augsburg.de/wp-content/uploads/2023/08/Fuggerei_AdobeStock_231230513_Massimo-Santi_660x528.jpg
ORGANIZER;CN="Regio Augsburg Tourismus GmbH":MAILTO:tourismus@regio-augsburg.de
END:VEVENT
BEGIN:VEVENT
DTSTART;TZID=Europe/Berlin:20241112T180000
DTEND;TZID=Europe/Berlin:20241112T193000
DTSTAMP:20260422T224402
CREATED:20240921T124940Z
LAST-MODIFIED:20240921T124940Z
UID:10019313-1731434400-1731439800@veranstaltungen-augsburg.de
SUMMARY:Online-Vortragsreihe: Fit und gesund mit antientzündlicher Ernährung
DESCRIPTION:Ungünstige Ernährungsweisen\, Bewegungsmangel\, Stress und bestimmte Darmprobleme können unterschwellige Entzündungsreaktionen im Körper auslösen. Symptome können chronische Müdigkeit\, verminderte Leistungsfähigkeit oder gesteigerte Infektanfälligkeit sein. Wie Sie mit den richtigen Lebensmitteln und einer gesunden Lebensweise die Gefahr einer stillen Entzündung vermindern oder ganz vermeiden können\, erfahren Sie in diesem Vortrag. \nMit: Renate Bleistein\, VerbraucherService Bayern \nOnline-Vortragsreihe „Frauengesundheit – ein Leben lang“ \nVom 15.10. bis 05.12.2024 bietet das Gesundheitsamt in Kooperation mit der Gesundheitsregionplus 15 Online-Vorträge zu Frauengesundheit und frauenspezifischen Erkrankungen an. Die Vorträge werden jeweils von Expertinnen und Experten gehalten. Sie vermitteln Wissen\, setzen Impulse und geben die Möglichkeit\, eigene Fragen zu stellen.\nDabei werden unter anderem Themen wie die psychische Gesundheit von Frauen\, frauenspezifische Krankheitsbilder\, die sexuelle Gesundheit sowie Möglichkeiten der Gesundheitsvorsorge in den Blick genommen. \nDie Online-Vorträge finden jeweils dienstags und donnerstags von 18:00 Uhr bis 19:30 Uhr statt. Eine Anmeldung ist nicht erforderlich und die Teilnahme kostenlos. \n15.10.2024: Frauenspezifische Aspekte psychischer Gesundheit und Krankheit\n17.10.2024: HPV-Infektionen vermeiden – die seltene Chance\, einen Krebs zu verhindern\n22.10.2024: Die Früherkennung von Brustkrebs und das Leben als Patientin\n24.10.2024: Der weibliche Zyklus und der Umgang mit Blutungsstörungen und PMS\n29.10.2024: Polyzystisches Ovarialsyndrom (PCOS) und dessen Einfluss auf die Fruchtbarkeit\n05.11.2024: Endometriose – der lange Weg zur Diagnose und wie es danach weitergeht\n07.11.2024: Grau statt bunt – psychische Krisen nach der Geburt\n12.11.2024: Fit und gesund mit antientzündlicher Ernährung\n14.11.2024: Hilfe im Fall von sexualisierter Gewalt – wo erhalte ich Beratung und Unterstützung?\n19.11.2024: Suchtgefährdung und Abhängigkeit bei Frauen – Risiken und Hilfsangebote\n21.11.2024: Wie schütze ich mich und andere vor sexuell übertragbaren Krankheiten?\n26.11.2024: Von Gewalt betroffen? Welche Unterstützungsmöglichkeiten gibt es für Frauen?\n28.11.2024: Lipödem – Symptome erkennen und lindern\n03.12.2024: Beckenboden-Schwäche der Frau – Senkung und Inkontinenz\n05.12.2024: Die erste Periode – was sollte ich als Elternteil wissen? \n  \nFoto: AdobeStock / stockpics_web
URL:https://veranstaltungen-augsburg.de/event/online-vortragsreihe-fit-und-gesund-mit-antientzuendlicher-ernaehrung/
LOCATION:Online
CATEGORIES:Vorträge
ATTACH;FMTTYPE=image/jpeg:https://veranstaltungen-augsburg.de/wp-content/uploads/2023/07/Gesundheit_AdobeStock_135440386_stockpics_web.jpg
ORGANIZER;CN="Stadt Augsburg":MAILTO:augsburg@augsburg.de
END:VEVENT
BEGIN:VEVENT
DTSTART;TZID=Europe/Berlin:20241112T203000
DTEND;TZID=Europe/Berlin:20241112T203000
DTSTAMP:20260422T224402
CREATED:20240831T125026Z
LAST-MODIFIED:20240831T125026Z
UID:10019124-1731443400-1731443400@veranstaltungen-augsburg.de
SUMMARY:Auxburg JamSessions: JAN KIESERWETTER (SAX)
DESCRIPTION:Der Abend wird von der Sessionleitung samt Begleitmusikern mit einem ersten Set eröffnet. Danach können Einsteiger aus dem Publikum auf die Bühne und in immer neuen\, wechselnden Besetzungen nach Herzens Lust „jammen“. Für Session-Teilnehmer ist der Eintritt frei. \nEintritt: 8\,00 / 4\,00 (erm.) \n  \nFoto: AdobeStock / weedezign
URL:https://veranstaltungen-augsburg.de/event/auxburg-jamsessions-jan-kieserwetter-sax/
LOCATION:Jazzclub Augsburg\, Philippine-Welser-Straße 11\, Augsburg\, 86150\, DE
CATEGORIES:Jazz,Konzert
ATTACH;FMTTYPE=image/jpeg:https://veranstaltungen-augsburg.de/wp-content/uploads/2023/07/Jazz_AdobeStock_81395811_weedezign.jpg
GEO:48.368006;10.897249
X-APPLE-STRUCTURED-LOCATION;VALUE=URI;X-ADDRESS=Jazzclub Augsburg Philippine-Welser-Straße 11 Augsburg 86150 DE;X-APPLE-RADIUS=500;X-TITLE=Philippine-Welser-Straße 11:geo:10.897249,48.368006
END:VEVENT
END:VCALENDAR