BEGIN:VCALENDAR
VERSION:2.0
PRODID:-//veranstaltungen-augsburg.de - ECPv6.15.20//NONSGML v1.0//EN
CALSCALE:GREGORIAN
METHOD:PUBLISH
X-WR-CALNAME:veranstaltungen-augsburg.de
X-ORIGINAL-URL:https://veranstaltungen-augsburg.de
X-WR-CALDESC:Veranstaltungen für veranstaltungen-augsburg.de
REFRESH-INTERVAL;VALUE=DURATION:PT1H
X-Robots-Tag:noindex
X-PUBLISHED-TTL:PT1H
BEGIN:VTIMEZONE
TZID:Europe/Berlin
BEGIN:DAYLIGHT
TZOFFSETFROM:+0100
TZOFFSETTO:+0200
TZNAME:CEST
DTSTART:20230326T010000
END:DAYLIGHT
BEGIN:STANDARD
TZOFFSETFROM:+0200
TZOFFSETTO:+0100
TZNAME:CET
DTSTART:20231029T010000
END:STANDARD
BEGIN:DAYLIGHT
TZOFFSETFROM:+0100
TZOFFSETTO:+0200
TZNAME:CEST
DTSTART:20240331T010000
END:DAYLIGHT
BEGIN:STANDARD
TZOFFSETFROM:+0200
TZOFFSETTO:+0100
TZNAME:CET
DTSTART:20241027T010000
END:STANDARD
BEGIN:DAYLIGHT
TZOFFSETFROM:+0100
TZOFFSETTO:+0200
TZNAME:CEST
DTSTART:20250330T010000
END:DAYLIGHT
BEGIN:STANDARD
TZOFFSETFROM:+0200
TZOFFSETTO:+0100
TZNAME:CET
DTSTART:20251026T010000
END:STANDARD
END:VTIMEZONE
BEGIN:VEVENT
DTSTART;VALUE=DATE:20241113
DTEND;VALUE=DATE:20241114
DTSTAMP:20260422T193940
CREATED:20241104T075414Z
LAST-MODIFIED:20250623T151829Z
UID:10023172-1731456000-1731542399@veranstaltungen-augsburg.de
SUMMARY:Alle aktuellen Ausstellungen hier finden
DESCRIPTION:Viele schöne Ausstellungen in Museen und Kulturstätten in Augsburg und der Region: \nKlickt euch >> HIER << rein. \n 
URL:https://veranstaltungen-augsburg.de/event/alle-ausstellungen-fuer-augsburg-und-region/2024-11-13/
ATTACH;FMTTYPE=image/jpeg:https://veranstaltungen-augsburg.de/wp-content/uploads/2023/10/buttons_PP_web_Termin_Ausstellung.jpg
END:VEVENT
BEGIN:VEVENT
DTSTART;TZID=Europe/Berlin:20241113T060000
DTEND;TZID=Europe/Berlin:20241113T160000
DTSTAMP:20260422T193940
CREATED:20230723T143638Z
LAST-MODIFIED:20230801T190403Z
UID:10002190-1731477600-1731513600@veranstaltungen-augsburg.de
SUMMARY:Antik-Trödelmarkt bei der Rockfabrik Augsburg
DESCRIPTION:Wöchentlich am Mittwoch\, Freitag und Samstag findet in der Halle und auf dem Parkplatz der Rockfabrik in Augsburg bei jedem Wetter ein großer Antikmarkt statt. \nMittwochs und Freitags gibt es die Möglichkeit\, sich beim Trödel mit Kaffee und Kuchen und an einem Imbiss zu stärken. \nDie Halle wird im Winter zusätzlich beheizt. \nFoto: AdobeStock_Nadya
URL:https://veranstaltungen-augsburg.de/event/antik-troedelmarkt-bei-der-rockfabrik-augsburg/2024-11-13/
LOCATION:Gelände der ehemaligen Rockfabrik\, Riedingerstraße 24\, Augsburg\, 86153\, Deutschland
CATEGORIES:Märkte,Trödelmärkte / Flohmärkte
ATTACH;FMTTYPE=image/jpeg:https://veranstaltungen-augsburg.de/wp-content/uploads/2023/07/Flohmarkt_AdobeStock_556568728_Nadya_quadratisch.jpg
END:VEVENT
BEGIN:VEVENT
DTSTART;TZID=Europe/Berlin:20241113T100000
DTEND;TZID=Europe/Berlin:20241113T160000
DTSTAMP:20260422T193940
CREATED:20240226T184048Z
LAST-MODIFIED:20240226T184048Z
UID:10014475-1731492000-1731513600@veranstaltungen-augsburg.de
SUMMARY:Energieberatungsangebot im Bildungshaus Kresslesmühle
DESCRIPTION:Individuell\, kostenfrei und unabhängig!  \nBei der kostenlosen Energieberatung können sich Augsburger Bürgerinnen und Bürger von einem neutralen Experten der Verbraucherzentrale Bayern individuell und unabhängig zu den Themen Energie sparen\, regenerative Energien sowie energetische Modernisierung beraten lassen. \nWas dürfen Sie erwarten? \n\neine 45-minütige Impulsberatung durch erfahrene Energieberater\nHinweise zum weiteren Vorgehen (keine Planungsleistungen)\nprodukt- und anbieterunabhängige Informationen\nHinweise zu energie- und kostensparenden Maßnahmen (keine Tarifberatung)\nindividuelle Beantwortung Ihrer Fragen\n\nWas können Sie zur Beratung mitbringen? \n\nFotos\nStrom- und Brennstoffabrechnungen (Gas\, Heizöl usw.)\nEnergieausweis und Kaminkehrerprotokolle\nGrundriss\, Baupläne etc.\n\nTerminvereinbarung unter 0821 324-7320 \n  \nFoto: AdobeStock / lovelyday12
URL:https://veranstaltungen-augsburg.de/event/energieberatungsangebot-im-bildungshaus-kresslesmuehle-18/
LOCATION:Bildungshaus Kresslesmühle\, Barfüßerstraße 4\, Augsburg\, 86150
CATEGORIES:Klima-/ Umweltschutz,Nachhaltigkeit
ATTACH;FMTTYPE=image/jpeg:https://veranstaltungen-augsburg.de/wp-content/uploads/2023/07/Nachhaltigkeit_AdobeStock_248562978_-lovelyday12.jpg
ORGANIZER;CN="Stadt Augsburg":MAILTO:augsburg@augsburg.de
END:VEVENT
BEGIN:VEVENT
DTSTART;TZID=Europe/Berlin:20241113T110000
DTEND;TZID=Europe/Berlin:20241113T130000
DTSTAMP:20260422T193940
CREATED:20231227T103410Z
LAST-MODIFIED:20231227T103410Z
UID:10010737-1731495600-1731502800@veranstaltungen-augsburg.de
SUMMARY:Stadtführung: Auf den Spuren von Fugger\, Mozart und Brecht - unterwegs in der Welterbestadt Augsburg
DESCRIPTION:Die öffentliche Stadtführung führt auf den Spuren der Fugger zum Augustusbrunnen und in den Goldenen Saal im Rathaus\, in die Fuggerhäuser\, die Handwerkeraltstadt entlang der Lechkanäle als Teil des UNESCO-Welterbes und in die Fuggerei. \nDie Eintrittspreise für die Fuggerei und für den Goldenen Saal sind im Eintrittspreis enthalten.\nBitte beachten: Ab August 2024 Goldener Saal/Rathaus wegen Sanierung geschlossen\, deswegen als Ersatz Dienstag – Freitag Ausstellung „Römerlager“\, Samstag & Sonntag Brechthaus) \nDauer: 2 Stunden \nTermine Januar – März:\nMontag – Donnerstag 11 Uhr (DE)\nFreitag – Sonntag 11 Uhr (DE) und 14 Uhr (DE/EN) \nTermine April – Dezember:\nMontag – Sonntag 11 Uhr (DE) und 14 Uhr (DE/EN) \nHinweis:\nAm 24.12. findet der öffentliche Stadtrundgang nur um 11 Uhr (DE) statt.\nAm 25.\, 26. Dezember & 01. Januar findet kein öffentlicher Stadtrundgang statt \nPreise:\nErwachsene 16 € p.P.\nErm. 14 € p.P. (Schüler/Studenten/Behinderte)\nFamilien (2 Erwachsene/2 Kinder bis 14 Jahre) 40 € \nTeilnehmer: mind. 7 Personen \nTreffpunkt: Tourist-Information am Rathausplatz \nAb 2024: Schwerpunkt UNESCO-Welterbe: Sonntag – Donnerstag 11 Uhr richtet sich beim öffentlichen Rundgang ein besonderer Fokus auf das Augsburger UNESCO-Welterbe „Augsburger Wassermanagement-System“. Es werden die selben Sehenswürdigkeiten besichtigt wie an allen anderen Terminen. Die Guides informieren jedoch besonders ausführlich zu Augsburgs historischer Wasserwirtschaft. \nAnmeldung:\nOnline-Tickets via Homepage\noder bis spätestens 30 Minuten vor Führungsbeginn direkt in der Tourist Information \n  \nFoto: AdobeStock / Massimo Santi
URL:https://veranstaltungen-augsburg.de/event/stadtfuehrung-auf-den-spuren-von-fugger-mozart-und-brecht-unterwegs-in-der-welterbestadt-augsburg-211/2024-11-13/
LOCATION:Tourist-Information am Rathausplatz\, Rathausplatz 1\, Augsburg\, 86150\, Deutschland
CATEGORIES:Führungen,Kultur,Stadtführungen
ATTACH;FMTTYPE=image/jpeg:https://veranstaltungen-augsburg.de/wp-content/uploads/2023/08/Fuggerei_AdobeStock_231230513_Massimo-Santi_660x528.jpg
ORGANIZER;CN="Regio Augsburg Tourismus GmbH":MAILTO:tourismus@regio-augsburg.de
END:VEVENT
BEGIN:VEVENT
DTSTART;TZID=Europe/Berlin:20241113T140000
DTEND;TZID=Europe/Berlin:20241113T160000
DTSTAMP:20260422T193940
CREATED:20231227T104143Z
LAST-MODIFIED:20231227T104143Z
UID:10011814-1731506400-1731513600@veranstaltungen-augsburg.de
SUMMARY:Stadtführung: Auf den Spuren von Fugger\, Mozart und Brecht - unterwegs in der Welterbestadt Augsburg
DESCRIPTION:Die öffentliche Stadtführung führt auf den Spuren der Fugger zum Augustusbrunnen und in den Goldenen Saal im Rathaus\, in die Fuggerhäuser\, die Handwerkeraltstadt entlang der Lechkanäle als Teil des UNESCO-Welterbes und in die Fuggerei. \nDie Eintrittspreise für die Fuggerei und für den Goldenen Saal sind im Eintrittspreis enthalten.\nBitte beachten: Ab August 2024 Goldener Saal/Rathaus wegen Sanierung geschlossen\, deswegen als Ersatz Dienstag – Freitag Ausstellung „Römerlager“\, Samstag & Sonntag Brechthaus) \nDauer: 2 Stunden \nTermine Januar – März:\nMontag – Donnerstag 11 Uhr (DE)\nFreitag – Sonntag 11 Uhr (DE) und 14 Uhr (DE/EN) \nTermine April – Dezember:\nMontag – Sonntag 11 Uhr (DE) und 14 Uhr (DE/EN) \nHinweis:\nAm 24.12. findet der öffentliche Stadtrundgang nur um 11 Uhr (DE) statt.\nAm 25.\, 26. Dezember & 01. Januar findet kein öffentlicher Stadtrundgang statt \nPreise:\nErwachsene 16 € p.P.\nErm. 14 € p.P. (Schüler/Studenten/Behinderte)\nFamilien (2 Erwachsene/2 Kinder bis 14 Jahre) 40 € \nTeilnehmer: mind. 7 Personen \nTreffpunkt: Tourist-Information am Rathausplatz \nAb 2024: Schwerpunkt UNESCO-Welterbe: Sonntag – Donnerstag 11 Uhr richtet sich beim öffentlichen Rundgang ein besonderer Fokus auf das Augsburger UNESCO-Welterbe „Augsburger Wassermanagement-System“. Es werden die selben Sehenswürdigkeiten besichtigt wie an allen anderen Terminen. Die Guides informieren jedoch besonders ausführlich zu Augsburgs historischer Wasserwirtschaft. \nAnmeldung:\nOnline-Tickets via Homepage\noder bis spätestens 30 Minuten vor Führungsbeginn direkt in der Tourist Information \n  \nFoto: AdobeStock / Massimo Santi
URL:https://veranstaltungen-augsburg.de/event/stadtfuehrung-auf-den-spuren-von-fugger-mozart-und-brecht-unterwegs-in-der-welterbestadt-augsburg-216/2024-11-13/
LOCATION:Tourist-Information am Rathausplatz\, Rathausplatz 1\, Augsburg\, 86150\, Deutschland
CATEGORIES:Führungen,Kultur,Stadtführungen
ATTACH;FMTTYPE=image/jpeg:https://veranstaltungen-augsburg.de/wp-content/uploads/2023/08/Fuggerei_AdobeStock_231230513_Massimo-Santi_660x528.jpg
ORGANIZER;CN="Regio Augsburg Tourismus GmbH":MAILTO:tourismus@regio-augsburg.de
END:VEVENT
BEGIN:VEVENT
DTSTART;TZID=Europe/Berlin:20241113T140000
DTEND;TZID=Europe/Berlin:20241113T180000
DTSTAMP:20260422T193940
CREATED:20240928T170736Z
LAST-MODIFIED:20240928T170736Z
UID:10019426-1731506400-1731520800@veranstaltungen-augsburg.de
SUMMARY:Filmcafé - "Alles Fifty Fifty"
DESCRIPTION:Der Seniorenbeirat der Stadt Aichach lädt zum Filmcafè ein \nam Mittwoch\, den 13. November 2024 im CINEPLEX Aichach \nab 14:00 Uhr Kaffee und Kuchen \nFilmbeginn: 15:00 Uhr. \nDiesen Monat wird der Film „Alles Fifty Fifty“ gezeigt. \n  \n  \nFoto: AdobeStock / Nejron-Photo
URL:https://veranstaltungen-augsburg.de/event/filmcafe-alles-fifty-fifty/
LOCATION:Cineplex Aichach\, Rudolf-Diesel-Straße 6\, Aichach\, 86551\, DE
CATEGORIES:Film
ATTACH;FMTTYPE=image/jpeg:https://veranstaltungen-augsburg.de/wp-content/uploads/2023/08/Kino_AdobeStock_77683876_Nejron-Photo_660x528.jpg
GEO:48.446075;11.137577
X-APPLE-STRUCTURED-LOCATION;VALUE=URI;X-ADDRESS=Cineplex Aichach Rudolf-Diesel-Straße 6 Aichach 86551 DE;X-APPLE-RADIUS=500;X-TITLE=Rudolf-Diesel-Straße 6:geo:11.137577,48.446075
END:VEVENT
BEGIN:VEVENT
DTSTART;TZID=Europe/Berlin:20241113T160000
DTEND;TZID=Europe/Berlin:20241113T180000
DTSTAMP:20260422T193940
CREATED:20240502T164836Z
LAST-MODIFIED:20240502T164836Z
UID:10016813-1731513600-1731520800@veranstaltungen-augsburg.de
SUMMARY:Sitzung des Klimabeirat der Stadt Augsburg
DESCRIPTION:Der Klimabeirat der Stadt Augsburg berät den Stadtrat bei der Umsetzung der städtischen Klimaschutzziele. \nDie Sitzungen sind grundsätzlich öffentlich und Gäste herzlich willkommen. In Ausnahmefällen können Sitzungen oder einzelne Tagesordnungspunkte nicht-öffentlich erfolgen. \n  \nAnmeldung nötig bis 1 Woche vor Veranstaltung \n  \nFoto: AdobeStock / jozsitoeroe
URL:https://veranstaltungen-augsburg.de/event/sitzung-des-klimabeirat-der-stadt-augsburg-4/
CATEGORIES:Gesellschaft,Klima-/ Umweltschutz,Nachhaltigkeit
ATTACH;FMTTYPE=image/jpeg:https://veranstaltungen-augsburg.de/wp-content/uploads/2023/08/Klima_AdobeStock_126395498_-jozsitoeroe_660x528.jpg
ORGANIZER;CN="Stadt Augsburg":MAILTO:augsburg@augsburg.de
END:VEVENT
BEGIN:VEVENT
DTSTART;TZID=Europe/Berlin:20241113T180000
DTEND;TZID=Europe/Berlin:20241113T180000
DTSTAMP:20260422T193940
CREATED:20241015T124357Z
LAST-MODIFIED:20241015T124357Z
UID:10019604-1731520800-1731520800@veranstaltungen-augsburg.de
SUMMARY:Infoveranstaltung über wagnisSHARE
DESCRIPTION:Die nächste Infoveranstaltung für Interessierte ist am 13. November 24 um 18 Uhrn im Saal der altkatholischen Junia-Gemeinde\, Siegfried-Aufhäuser-Straße 25\, in Augsburg.  \nBis Anfang 2026 wächst mit wagnisSHARE im Sheridanpark im Westen Augsburgs das neunte Wohnprojekt der wagnis eG. Hier entstehen in einer nachhaltigen Holzbauweise 46 unterschiedlich geförderte und freifinanzierte Wohnungen in drei Häusern für eine bunte\, inklusive und generationenübergreifende Nachbarschaft. \nAktuell suchen wir noch Mitglieder für die Baugruppe bzw. haben verschiedene Wohnungen zu vergeben. Die bereits bestehende Baugruppe ist bunt gemischt – mit Menschen aus Augsburg\, aus München und dazwischen\, mit Familien\, Paaren\, Alleinstehenden und Rentner*innen. Es sind noch kleinere freifinanzierte Wohnungen\, außerdem Wohnungen in verschiedenen Größen in den Förderstufen EOF 1\, EOF 2 und EOF 3 zu vergeben. \nInteressierte können sich gerne zum Besuch unserer Infoveranstaltungen anmelden oder vorab unter +49 (0)89 36 036 09-0 bzw. info@wagnis.org Kontakt aufnehmen. \nMehr Informationen unter www.wagnis.org \n  \n  \nFoto: wSHARE Workshop Gemeinschaft/ wagnis-eG-min
URL:https://veranstaltungen-augsburg.de/event/infoveranstaltung-ueber-wagnisshare-2/
LOCATION:Saal der altkatholischen Junia-Gemeinde\, Siegfried-Aufhäuser-Straße 25\, Augsburg\, 86157
ATTACH;FMTTYPE=image/jpeg:https://veranstaltungen-augsburg.de/wp-content/uploads/2024/08/wSHARE_Workshop_Gemeinschaft_Credit-wagnis-eG-min.jpg
ORGANIZER;CN="wagnisSHARE":MAILTO:info@wagnis.org
END:VEVENT
BEGIN:VEVENT
DTSTART;TZID=Europe/Berlin:20241113T183000
DTEND;TZID=Europe/Berlin:20241113T200000
DTSTAMP:20260422T193940
CREATED:20240320T175002Z
LAST-MODIFIED:20240320T175002Z
UID:10014867-1731522600-1731528000@veranstaltungen-augsburg.de
SUMMARY:Kurs: Kundalini-Yoga für Alle
DESCRIPTION:Kundalini-Yoga für Alle – online und/oder Präsenz in Augsburg Stadtmitte \nEine Kundalini-Yogastunde beginnt bei mir mit einer kurzen Aufwärmsequenz meist zu Musik und dem Einstimmen.\nDaran schließt sich eine Übungsreihe nach Yogi Bhajan – eine sogenannte Kriya zu einem bestimmten Thema an.\nZum Beispiel: Kriya für die Wirbelsäule\, Balancieren und Wiederaufladen der Nervensystems\, Stärkung der Abwehrkräfte.\nDen Abschluss der Stunde bilden Tiefenentspannung und Meditation. \nMittwochs 18:30 bis 20 Uhr\n10er Karte – 150 Euro \nAnmeldung und Info 0176-23 85 89 87\noder https://www.kundalini-yoga-augsburg.de \nAuch online-Teilnahme möglich \n  \n  \nFoto: AdobeStock / nakedcm
URL:https://veranstaltungen-augsburg.de/event/kurs-kundalini-yoga-fuer-alle/2024-11-13/
LOCATION:Naturheilpraxis Katrin Sturm\, Beim Schnarrbrunnen 15\, Augsburg\, 86150
CATEGORIES:Achtsamkeit,Gesundheit,Kurse
ATTACH;FMTTYPE=image/jpeg:https://veranstaltungen-augsburg.de/wp-content/uploads/2023/07/Mediation1_AdobeStock_245653305_nakedcm.jpg
END:VEVENT
BEGIN:VEVENT
DTSTART;TZID=Europe/Berlin:20241113T190000
DTEND;TZID=Europe/Berlin:20241113T200000
DTSTAMP:20260422T193940
CREATED:20240625T220859Z
LAST-MODIFIED:20240928T100803Z
UID:10018113-1731524400-1731528000@veranstaltungen-augsburg.de
SUMMARY:Web-Reihe „Demokratie im Gespräch“: Soziale Medien und gesellschaftliche Spaltung
DESCRIPTION:Eine Kooperation der Volkshochschulen in Bayern mit der Bayerischen Landeszentrale für politische Bildungsarbeit und der Akademie für politische Bildung in Tutzing.\nExpertinnen und Experten referieren zu den gesellschaftlichen Auswirkungen der Digitalisierung. Diskutieren Sie mit!\nDie Veranstaltung findet als Zoom Webinar statt\, d.h. Sie werden nicht gesehen und gehört in der Veranstaltung und können sich über den Chat beteiligen. \nMittwoch\, 13.11.24\, 19.00 – 20.00 Uhr\nAn diesem Abend gehen wir der Frage nach\, ob und wenn ja wie Soziale Medien zu gesellschaftlicher Spaltung beitragen. Sorgen Algorithmen dafür\, dass Menschen in ihrer eigenen Filterblase bleiben\, nur bestimmte Informationen erhalten und damit ihr Weltbild immer wieder verstärkt sehen? Oder ist es die starke Konfrontation mit entgegengesetzten politischen Meinungen in den Sozialen Medien\, die bei Menschen heftige emotionale Reaktionen auslöst und damit die Polarisierung wachsen lässt? Noch grundsätzlicher: Führt der Fokus auf die Rolle der sozialen Medien zu einer Verengung der Diskussion über gesellschaftliche Spaltung und Radikalisierung\, indem er die historischen Kontinuitäten der Diskriminierung und Menschenfeindlichkeit und ihre Verankerung in bestimmten Milieus außer Acht lässt? \nNotwendig für die Online-Kursteilnahme: Laptop/PC/Tablet mit Kamera und Mikrofon\, stabile Internetverbindung/WLAN. \nDer Online-Kurs findet über das Videokonferenztool zoom statt. Die Zugangsdaten werden Ihnen nach der Anmeldung zugeschickt. \nLeitung: Bayer. Volkshochschulverband e.V. (BVV)\nNummer: 242ON104m03 \nFoto: Manuel Schönfeld
URL:https://veranstaltungen-augsburg.de/event/web-reihe-demokratie-im-gespraech-soziale-medien-und-gesellschaftliche-spaltung/
LOCATION:Online
CATEGORIES:Gesellschaft,Kurse
ATTACH;FMTTYPE=image/jpeg:https://veranstaltungen-augsburg.de/wp-content/uploads/2024/04/Augsburg_Europa_Sterne_AdobeStock_304717052_Manuel-Schoenfeld.jpg
END:VEVENT
BEGIN:VEVENT
DTSTART;TZID=Europe/Berlin:20241113T190000
DTEND;TZID=Europe/Berlin:20241113T210000
DTSTAMP:20260422T193940
CREATED:20241031T110310Z
LAST-MODIFIED:20241031T110310Z
UID:10019742-1731524400-1731531600@veranstaltungen-augsburg.de
SUMMARY:Lesung: Zweiter Internationaler Leseabend Augsburger Studierender
DESCRIPTION:Impulse\, mehrsprachige Texte und Austausch \nBeim internationalen Leseabend des Vereins zur Förderung ausländischer Studierender (f.au.st e. V.) und des Forums interkulturelles Leben und Lernen (FiLL e. V.) werden drei Tandems internationaler Literatur vorgetragen: sowohl im Original durch Muttersprachler*innen als auch in deutscher Übersetzung. Interkulturelles Leben und Lernen und die Förderung ausländischer Studierender gehen hier Hand in Hand. \nIm Anschluss besteht Gelegenheit\, mit den Vorlesenden über die ausgewählten Werke zu diskutieren und sich über die Arbeit von f.au.st und FiLL zu informieren. \nVeranstaltungsort:\nAnnahof\, Hollbau\, Urbanus-Regius-Raum + Anna-Weißbrücker-Raum\, 2.OG\nIm Annahof 4\n86150 Augsburg \nKosten: Eintritt frei \nIn Kooperation mit: f.au.st e.V.\, Vorsitzender: Prof. Dr. Henning Höppe\, www.uni-augsburg.de/de/portal/faust\nFiLL e.V.\, 1. Vorsitzende: Daniela Susso\, www.fill.de \n  \nFoto: Martin Beck
URL:https://veranstaltungen-augsburg.de/event/lesung-zweiter-internationaler-leseabend-augsburger-studierender/
LOCATION:Annahof\, Im Annahof 4\, Augsburg\, 86150\, Deutschland
CATEGORIES:Lesungen
ATTACH;FMTTYPE=image/jpeg:https://veranstaltungen-augsburg.de/wp-content/uploads/2023/07/Annahof_Bildrechte-Martin-Beck_web.jpg
ORGANIZER;CN="Evangelisches Forum Annahof":MAILTO:dekanat@augsburg-evangelisch.de
END:VEVENT
BEGIN:VEVENT
DTSTART;TZID=Europe/Berlin:20241113T193000
DTEND;TZID=Europe/Berlin:20241113T210000
DTSTAMP:20260422T193940
CREATED:20240928T100651Z
LAST-MODIFIED:20240928T100651Z
UID:10019402-1731526200-1731531600@veranstaltungen-augsburg.de
SUMMARY:Vortrag: Massenvertreibung\, Hungertote\, internationale Machtspiele
DESCRIPTION:Warum uns der Krieg im Sudan interessieren sollte \nÜber das Kriegsgeschehen in der Ukraine und im Gazastreifen hat die westliche Welt den Krieg im Sudan fast vergessen. Der Konflikt destabilisiert eine ganze Großregion und treibt Millionen Menschen in die Flucht – innerhalb des Sudan und vor allem in die Nachbarländer. \nDer Sudan versinkt unaufhaltsam im Chaos. Die internationale Gemeinschaft versagt. \n\nReferent:innen: Marina Peter ist Beraterin für zivilgesellschaftliches Engagement\, Konfliktprävention und Konfliktbearbeitung sowie Versöhnung am Horn von Afrika. Seit fast 40 Jahren arbeitet sie in unterschiedlichen Funktionen eng mit Menschen und Gruppierungen verschiedenster ethnischer Herkunft\, religiöser oder politischer Zugehörigkeit in den Ländern am Horn von Afrika zusammen\, die sich für Frieden\, Versöhnung und Gerechtigkeit einsetzen.\n\n  \nFoto: Martin Beck
URL:https://veranstaltungen-augsburg.de/event/vortrag-massenvertreibung-hungertote-internationale-machtspiele/
LOCATION:Annahof\, Im Annahof 4\, Augsburg\, 86150\, Deutschland
CATEGORIES:Gesellschaft,Vorträge
ATTACH;FMTTYPE=image/jpeg:https://veranstaltungen-augsburg.de/wp-content/uploads/2023/07/Annahof_Bildrechte-Martin-Beck_web.jpg
ORGANIZER;CN="Evangelisches Forum Annahof":MAILTO:dekanat@augsburg-evangelisch.de
END:VEVENT
END:VCALENDAR