BEGIN:VCALENDAR
VERSION:2.0
PRODID:-//veranstaltungen-augsburg.de - ECPv6.15.20//NONSGML v1.0//EN
CALSCALE:GREGORIAN
METHOD:PUBLISH
X-ORIGINAL-URL:https://veranstaltungen-augsburg.de
X-WR-CALDESC:Veranstaltungen für veranstaltungen-augsburg.de
REFRESH-INTERVAL;VALUE=DURATION:PT1H
X-Robots-Tag:noindex
X-PUBLISHED-TTL:PT1H
BEGIN:VTIMEZONE
TZID:Europe/Berlin
BEGIN:DAYLIGHT
TZOFFSETFROM:+0100
TZOFFSETTO:+0200
TZNAME:CEST
DTSTART:20240331T010000
END:DAYLIGHT
BEGIN:STANDARD
TZOFFSETFROM:+0200
TZOFFSETTO:+0100
TZNAME:CET
DTSTART:20241027T010000
END:STANDARD
BEGIN:DAYLIGHT
TZOFFSETFROM:+0100
TZOFFSETTO:+0200
TZNAME:CEST
DTSTART:20250330T010000
END:DAYLIGHT
BEGIN:STANDARD
TZOFFSETFROM:+0200
TZOFFSETTO:+0100
TZNAME:CET
DTSTART:20251026T010000
END:STANDARD
BEGIN:DAYLIGHT
TZOFFSETFROM:+0100
TZOFFSETTO:+0200
TZNAME:CEST
DTSTART:20260329T010000
END:DAYLIGHT
BEGIN:STANDARD
TZOFFSETFROM:+0200
TZOFFSETTO:+0100
TZNAME:CET
DTSTART:20261025T010000
END:STANDARD
END:VTIMEZONE
BEGIN:VEVENT
DTSTART;VALUE=DATE:20250314
DTEND;VALUE=DATE:20250315
DTSTAMP:20260423T061556
CREATED:20241104T075414Z
LAST-MODIFIED:20250623T151829Z
UID:10023293-1741910400-1741996799@veranstaltungen-augsburg.de
SUMMARY:Alle aktuellen Ausstellungen hier finden
DESCRIPTION:Viele schöne Ausstellungen in Museen und Kulturstätten in Augsburg und der Region: \nKlickt euch >> HIER << rein. \n 
URL:https://veranstaltungen-augsburg.de/event/alle-ausstellungen-fuer-augsburg-und-region/2025-03-14/
ATTACH;FMTTYPE=image/jpeg:https://veranstaltungen-augsburg.de/wp-content/uploads/2023/10/buttons_PP_web_Termin_Ausstellung.jpg
END:VEVENT
BEGIN:VEVENT
DTSTART;TZID=Europe/Berlin:20250314T140000
DTEND;TZID=Europe/Berlin:20250314T140000
DTSTAMP:20260423T061556
CREATED:20240409T072658Z
LAST-MODIFIED:20240409T073621Z
UID:10016165-1741960800-1741960800@veranstaltungen-augsburg.de
SUMMARY:Die historischen Wassertürme am Roten Tor in Augsburg: Ein wohl weltweit einmaliges Welterbe
DESCRIPTION:Drei Wassertürme\, zwei Brunnenmeisterhäuser\, ein Aquädukt\, Stuck\, Modelle\, Instruktionsgemälde: Das Wasserwerk am Roten Tor ist als historisches Architekturensemble komplett erhalten und ein vermutlich weltweit einzigartiges Baudenkmal der Trinkwasserversorgung aus der Zeit um 1430 bis 1879. Die Dauerausstellung im Großen und Kleinen Wasserturm informiert zur „Wasserkunst“ – zur Ingenieurskunst vom Feinsten: Wasserhebung mit Wasserkraft. Seit 2019 ein Denkmal des UNESCO-Welterbes „Augsburger Wassermanagement-System“. \nIn deutscher und englischer Sprache\nTicktes nur online: www.augsburg-tourismus.de/fuehrungen \nFoto: AdobeStock_copyright_Klaus-Eppele
URL:https://veranstaltungen-augsburg.de/event/die-historischen-wassertuerme-am-roten-tor-in-augsburg-ein-wohl-weltweit-einmaliges-welterbe/2025-03-14/
LOCATION:Wassertürme am Roten Tor\, Am Roten Tor 8\, Augsburg\, 86150
CATEGORIES:Führungen,Stadtführungen
ATTACH;FMTTYPE=image/jpeg:https://veranstaltungen-augsburg.de/wp-content/uploads/2023/07/Augsburger-Wasserturm-am-Roten-Tor_AdobeStock_209328840_copyright_Klaus-Eppele_web.jpg
GEO:48.360018;10.902637
X-APPLE-STRUCTURED-LOCATION;VALUE=URI;X-ADDRESS=Wassertürme am Roten Tor Am Roten Tor 8 Augsburg 86150;X-APPLE-RADIUS=500;X-TITLE=Am Roten Tor 8:geo:10.902637,48.360018
END:VEVENT
BEGIN:VEVENT
DTSTART;TZID=Europe/Berlin:20250314T150000
DTEND;TZID=Europe/Berlin:20250314T170000
DTSTAMP:20260423T061556
CREATED:20241027T084614Z
LAST-MODIFIED:20241027T084703Z
UID:10019683-1741964400-1741971600@veranstaltungen-augsburg.de
SUMMARY:Repair-Café mit Radlwerkstatt in Haunstetten
DESCRIPTION:Wer an seinen alten Schätzen hängt und Elektroschrott vermeiden möchte\, ist beim Repair-Café mit Radlwerkstatt im BRK-Stadtteilzentrum Haunstetten in der Johann-Strauß-Straße 11 richtig. \nEhrenamtliche reparieren Elektrogeräte (z.B. Mixer\, Radios\, Staubsauger)\, wirken Wunder an der Nähmaschine und bringen Ihr Fahrrad wieder in Schuss. \nkostenlos\nWerkzeug ist vorhanden \nAnm. bis zwei Tage vorher: info@szaugsburg-stadt.brk.de \n  \nFoto: AdobeStock / BRK Stadtteilzentrum Haunstetten
URL:https://veranstaltungen-augsburg.de/event/repair-cafe-mit-radlwerkstatt-in-haunstetten-3/2025-03-14/
LOCATION:BRK-Stadtteilzentrum Haunstetten\, Johann-Strauß- Straße 11\, Augsburg\, 86179\, Deutschland
CATEGORIES:Handwerk,Klima-/ Umweltschutz,Nachhaltigkeit
ATTACH;FMTTYPE=image/jpeg:https://veranstaltungen-augsburg.de/wp-content/uploads/2024/04/Repair-Cafe-klein.jpg
END:VEVENT
BEGIN:VEVENT
DTSTART;TZID=Europe/Berlin:20250314T190000
DTEND;TZID=Europe/Berlin:20250314T190000
DTSTAMP:20260423T061556
CREATED:20241108T171245Z
LAST-MODIFIED:20241108T171245Z
UID:10025010-1741978800-1741978800@veranstaltungen-augsburg.de
SUMMARY:N8Stallung: Das Musical Dinner
DESCRIPTION:Erlebnisse schaffen beim Musical Dinner! Tauchen Sie ein in die Welt der Musicals und lassen Sie sich verzaubern von den Stimmen unserer Darsteller. \nSingen Sie mit und schwelgen Sie in Erinnerungen bei Ihren Lieblings-Musicalsongs! \n  \nFoto: N8Stallung
URL:https://veranstaltungen-augsburg.de/event/n8stallung-das-musical-dinner/
LOCATION:N8Stallung\, Johannes-Haag-Straße 36\, Augsburg\, 86153\, Germany
CATEGORIES:Bühne / Theater,Events
ATTACH;FMTTYPE=image/jpeg:https://veranstaltungen-augsburg.de/wp-content/uploads/2024/11/N8Stallung_5.jpg
ORGANIZER;CN="N8Stallung":MAILTO:info@n8stallung.de
END:VEVENT
BEGIN:VEVENT
DTSTART;TZID=Europe/Berlin:20250314T190000
DTEND;TZID=Europe/Berlin:20250314T220000
DTSTAMP:20260423T061556
CREATED:20250110T183220Z
LAST-MODIFIED:20250110T183655Z
UID:10027344-1741978800-1741989600@veranstaltungen-augsburg.de
SUMMARY:Ritualabend zum Vollmond
DESCRIPTION:In erdverbundene Spiritualität eintauchen. \nBei diesem WUNDERvollen Ritual-Abend nehmen eine Auszeit vom Alltag: Rund um das heilige Feuer\, geborgen in der Frauenkraft der Gruppe\, mit reinigenden Kräuterräucherungen\, tiefer Entspannung\, stärkenden Liedern und verbindendem Trommelrhythmus erspüren wir die Tiefe unseres Herzens. \nSo wird der Boden bereitet für das Eintauchen jeder einzelnen Frau in die tiefen Fragen\, die sie gerade bewegen. Was brauche ich wirklich? Was hindert mich gerade am Leben? Wie finde ich wieder in meine Mitte? \nIn einer kleinen Solozeit in der Natur kannst du diesen Fragen nachspüren.\nDie Natur – Mutter Erde – schenkt uns Symbole und Gleichnisse\, die deinen Antworten auf den Weg helfen. Die Natur und die Qualität der jeweiligen Jahreszeit sind dabei unsere Begleiterinnen. \nDiese berührenden Erkenntnisse aus deinem Inneren wandern vom Herz auf die Zunge und werden im achtsamen Frauenkreis im Feuer-Ritual bekräftigt. \nDies schenkt Erkenntnis\, Kraft\, Heilwerden\, Verbundenheit und Zuversicht. \nDieser Abend berührt – beschenkt – bestärkt. \nRitualabende zu Vollmond: \nSo 12.01.2025\, 19 Uhr\nFr 14.03.2025\, 19 Uhr\nSo 13.04.2025\, 19 Uhr \nDauer: ca. 2\,5 Std.\, 33 Euro\nOrt: Augsburg-Firnhaberau\, genauer Ort wird bei Anmeldung bekannt gegeben\nAnmeldung\nTeilnahmebedingungen \nBitte mitbringen:\nTrommel\, Rassel – falls vorhanden\nSitzunterlage für die Natur\nWinter- / Regenkleidung je nach Wetterlage
URL:https://veranstaltungen-augsburg.de/event/ritualabend-zum-vollmond-3/
CATEGORIES:Achtsamkeit,Natur,Persönlichkeitsentwicklung
ATTACH;FMTTYPE=image/jpeg:https://veranstaltungen-augsburg.de/wp-content/uploads/2024/08/Ritualabend.jpg
ORGANIZER;CN="Uta B%C3%B6rger":MAILTO:uta@herz-wurzeln-weisheit.de
END:VEVENT
BEGIN:VEVENT
DTSTART;TZID=Europe/Berlin:20250314T190000
DTEND;TZID=Europe/Berlin:20250314T220000
DTSTAMP:20260423T061556
CREATED:20250415T130324Z
LAST-MODIFIED:20250415T130324Z
UID:10027619-1741978800-1741989600@veranstaltungen-augsburg.de
SUMMARY:Ritualabend zum Vollmond
DESCRIPTION:In erdverbundene Spiritualität eintauchen. \nBei diesem WUNDERvollen Ritual-Abend nehmen eine Auszeit vom Alltag: Rund um das heilige Feuer\, geborgen in der Frauenkraft der Gruppe\, mit reinigenden Kräuterräucherungen\, tiefer Entspannung\, stärkenden Liedern und verbindendem Trommelrhythmus erspüren wir die Tiefe unseres Herzens. \nSo wird der Boden bereitet für das Eintauchen jeder einzelnen Frau in die tiefen Fragen\, die sie gerade bewegen. Was brauche ich wirklich? Was hindert mich gerade am Leben? Wie finde ich wieder in meine Mitte? \nIn einer kleinen Solozeit in der Natur kannst du diesen Fragen nachspüren.\nDie Natur – Mutter Erde – schenkt uns Symbole und Gleichnisse\, die deinen Antworten auf den Weg helfen. Die Natur und die Qualität der jeweiligen Jahreszeit sind dabei unsere Begleiterinnen. \nDiese berührenden Erkenntnisse aus deinem Inneren wandern vom Herz auf die Zunge und werden im achtsamen Frauenkreis im Feuer-Ritual bekräftigt. \nDies schenkt Erkenntnis\, Kraft\, Heilwerden\, Verbundenheit und Zuversicht. \nDieser Abend berührt – beschenkt – bestärkt. \nAnmeldung \n 
URL:https://veranstaltungen-augsburg.de/event/ritualabend-zum-vollmond-4/
CATEGORIES:Achtsamkeit,Natur,Persönlichkeitsentwicklung
ATTACH;FMTTYPE=image/jpeg:https://veranstaltungen-augsburg.de/wp-content/uploads/2024/08/Ritualabend.jpg
ORGANIZER;CN="Uta B%C3%B6rger":MAILTO:uta@herz-wurzeln-weisheit.de
END:VEVENT
END:VCALENDAR