BEGIN:VCALENDAR
VERSION:2.0
PRODID:-//veranstaltungen-augsburg.de - ECPv6.15.20//NONSGML v1.0//EN
CALSCALE:GREGORIAN
METHOD:PUBLISH
X-ORIGINAL-URL:https://veranstaltungen-augsburg.de
X-WR-CALDESC:Veranstaltungen für veranstaltungen-augsburg.de
REFRESH-INTERVAL;VALUE=DURATION:PT1H
X-Robots-Tag:noindex
X-PUBLISHED-TTL:PT1H
BEGIN:VTIMEZONE
TZID:Europe/Berlin
BEGIN:DAYLIGHT
TZOFFSETFROM:+0100
TZOFFSETTO:+0200
TZNAME:CEST
DTSTART:20240331T010000
END:DAYLIGHT
BEGIN:STANDARD
TZOFFSETFROM:+0200
TZOFFSETTO:+0100
TZNAME:CET
DTSTART:20241027T010000
END:STANDARD
BEGIN:DAYLIGHT
TZOFFSETFROM:+0100
TZOFFSETTO:+0200
TZNAME:CEST
DTSTART:20250330T010000
END:DAYLIGHT
BEGIN:STANDARD
TZOFFSETFROM:+0200
TZOFFSETTO:+0100
TZNAME:CET
DTSTART:20251026T010000
END:STANDARD
BEGIN:DAYLIGHT
TZOFFSETFROM:+0100
TZOFFSETTO:+0200
TZNAME:CEST
DTSTART:20260329T010000
END:DAYLIGHT
BEGIN:STANDARD
TZOFFSETFROM:+0200
TZOFFSETTO:+0100
TZNAME:CET
DTSTART:20261025T010000
END:STANDARD
END:VTIMEZONE
BEGIN:VEVENT
DTSTART;VALUE=DATE:20250503
DTEND;VALUE=DATE:20250504
DTSTAMP:20260421T175148
CREATED:20241104T075414Z
LAST-MODIFIED:20250623T151829Z
UID:10023343-1746230400-1746316799@veranstaltungen-augsburg.de
SUMMARY:Alle aktuellen Ausstellungen hier finden
DESCRIPTION:Viele schöne Ausstellungen in Museen und Kulturstätten in Augsburg und der Region: \nKlickt euch >> HIER << rein. \n 
URL:https://veranstaltungen-augsburg.de/event/alle-ausstellungen-fuer-augsburg-und-region/2025-05-03/
ATTACH;FMTTYPE=image/jpeg:https://veranstaltungen-augsburg.de/wp-content/uploads/2023/10/buttons_PP_web_Termin_Ausstellung.jpg
END:VEVENT
BEGIN:VEVENT
DTSTART;TZID=Europe/Berlin:20250503T100000
DTEND;TZID=Europe/Berlin:20250503T180000
DTSTAMP:20260421T175148
CREATED:20240831T111321Z
LAST-MODIFIED:20240831T111321Z
UID:10019105-1746266400-1746295200@veranstaltungen-augsburg.de
SUMMARY:Frühlingsmarkt auf Schloss Sandizell
DESCRIPTION:Endlich sprießt und blüht die Natur wieder mit voller Kraft rund um das Wasserschloss zu Sandizell. \nAussteller mit kunsthandwerklichen Accessoires und Köstlichkeiten der Saison warten darauf Ihr Zuhause mit dem nötigen Frühlingsflair zu verschönern. \nAuf dem Frühlingsmarkt bringt der Spaziergang durch den Schlosspark und Innenhof\, natur belassen in seiner Ursprünglichkeit\, selbst frühjahrsmüde Köpfe auf Trab. \nInternationales Kunsthandwerk und Spezialitäten für den Gaumen im Schlosshof\, Wohn –und Gartenaccessoires\, stimmungsvolle Skulpturen und Zierbrunnen\, Wellness & Kosmetik\, Frühlingsmode und Kulinarisches aus aller Welt\, dass Herz und Auge erfreut. \n01./02./03./04. Mai 2025
URL:https://veranstaltungen-augsburg.de/event/fruehlingsmarkt-auf-schloss-sandizell-4/
LOCATION:Wasserschloss Sandizell\, Schloßstraße 4\, Sandizell\, 86529\, Deutschland
CATEGORIES:Kunsthandwerkermärkte,Märkte
ATTACH;FMTTYPE=image/jpeg:https://veranstaltungen-augsburg.de/wp-content/uploads/2024/08/Fruehlingsmarkt-Sandizell.jpg
END:VEVENT
BEGIN:VEVENT
DTSTART;TZID=Europe/Berlin:20250503T131300
DTEND;TZID=Europe/Berlin:20250503T171700
DTSTAMP:20260421T175148
CREATED:20250415T131349Z
LAST-MODIFIED:20250415T131349Z
UID:10027341-1746277980-1746292620@veranstaltungen-augsburg.de
SUMMARY:Frauen-Workshop: Erdhände & Märchenklang zu Beltane
DESCRIPTION:Töpfern & Märchen im Wandel der Jahreszeiten \nTauche mit uns ein in die Magie der Jahreszeiten\, umhüllt von duftenden Räucherkräutern und verzaubert von einer tiefgehenden\, inspirierenden Geschichte. \nIn der Weisheit dieser meditativen Erzählung\, die achtsam und voller Herzverbundenheit von Uta von Herz.Wurzeln.Weisheit gestaltet wird\, finden wir den Spiegel des Wandels\, den die Natur uns zeigt und spüren den Qualitäten der jeweiligen Jahreszeit nach. Wir tauchen tief ein in altes Wissen\, das in jeder von uns Frauen verborgen ist. \nAus der Stille heraus\, getragen von Intuition und Verbundenheit\, finden wir zu unseren Händen zurück\, die aus weichem Ton kleine Kunstwerke erschaffen. Unter der behutsamen Anleitung von Keramikkünstlerin Karin schöpfen wir\, auch Anfängerinnen oder vermeintlich „Unkreative“\, aus unserer inneren Kreativität. Die Arbeit mit Ton – lebendig\, erdig und warm – verbindet uns mit der Erde. \nDieser Workshop schenkt dir Raum für Kreativität\, für tiefes Fühlen und Entspannung – eine Auszeit\, die Körper und Geist harmonisiert und uns in der Schönheit des Augenblicks eintauchen lässt. \nAnmeldung \n 
URL:https://veranstaltungen-augsburg.de/event/frauen-workshop-erdhaende-maerchenklang-zu-beltane/
LOCATION:Keramik Art Karin Fleischner – Haberskirch\, Zirbenweg 2\, Friedberg\, 86316\, Germany
CATEGORIES:Achtsamkeit,Natur,Persönlichkeitsentwicklung
ATTACH;FMTTYPE=image/jpeg:https://veranstaltungen-augsburg.de/wp-content/uploads/2025/01/Erdhaende.jpg
ORGANIZER;CN="Uta B%C3%B6rger":MAILTO:uta@herz-wurzeln-weisheit.de
END:VEVENT
BEGIN:VEVENT
DTSTART;TZID=Europe/Berlin:20250503T140000
DTEND;TZID=Europe/Berlin:20250503T140000
DTSTAMP:20260421T175148
CREATED:20240409T073704Z
LAST-MODIFIED:20240409T073704Z
UID:10016337-1746280800-1746280800@veranstaltungen-augsburg.de
SUMMARY:Die historischen Wassertürme am Roten Tor in Augsburg: Ein wohl weltweit einmaliges Welterbe
DESCRIPTION:Drei Wassertürme\, zwei Brunnenmeisterhäuser\, ein Aquädukt\, Stuck\, Modelle\, Instruktionsgemälde: Das Wasserwerk am Roten Tor ist als historisches Architekturensemble komplett erhalten und ein vermutlich weltweit einzigartiges Baudenkmal der Trinkwasserversorgung aus der Zeit um 1430 bis 1879. Die Dauerausstellung im Großen und Kleinen Wasserturm informiert zur „Wasserkunst“ – zur Ingenieurskunst vom Feinsten: Wasserhebung mit Wasserkraft. Seit 2019 ein Denkmal des UNESCO-Welterbes „Augsburger Wassermanagement-System“. \nIn deutscher und englischer Sprache\nTicktes nur online: www.augsburg-tourismus.de/fuehrungen \nFoto: AdobeStock_copyright_Klaus-Eppele
URL:https://veranstaltungen-augsburg.de/event/die-historischen-wassertuerme-am-roten-tor-in-augsburg-ein-wohl-weltweit-einmaliges-welterbe-2/2025-05-03/
LOCATION:Wassertürme am Roten Tor\, Am Roten Tor 8\, Augsburg\, 86150
CATEGORIES:Führungen,Stadtführungen
ATTACH;FMTTYPE=image/jpeg:https://veranstaltungen-augsburg.de/wp-content/uploads/2023/07/Augsburger-Wasserturm-am-Roten-Tor_AdobeStock_209328840_copyright_Klaus-Eppele_web.jpg
GEO:48.360018;10.902637
X-APPLE-STRUCTURED-LOCATION;VALUE=URI;X-ADDRESS=Wassertürme am Roten Tor Am Roten Tor 8 Augsburg 86150;X-APPLE-RADIUS=500;X-TITLE=Am Roten Tor 8:geo:10.902637,48.360018
END:VEVENT
BEGIN:VEVENT
DTSTART;TZID=Europe/Berlin:20250503T203000
DTEND;TZID=Europe/Berlin:20250503T203000
DTSTAMP:20260421T175148
CREATED:20241127T132750Z
LAST-MODIFIED:20241127T132750Z
UID:10027186-1746304200-1746304200@veranstaltungen-augsburg.de
SUMMARY:Theater: The fear of 13
DESCRIPTION:Nick Yarris saß über zwei Jahrzehnte unschuldig im Gefängnis. Zu 105 Jahren Haft verurteilt. Der Vorwurf: Vergewaltigung und Mord … an einer Frau\, der er nie begegnet ist. Nach vielen gescheiterten Berufungsverfahren\, und als die Verzweiflung am größten und alle Hoffnung zerstört war\, schrieb Nick Yarris seinen letzten Brief an das County-Gericht von Pennsylvania. Es war der Antrag auf seine Hinrichtung. \nDies ist seine packende Geschichte. \n‚The Fear of 13‘ ist ein Plädoyer gegen die Todesstrafe und für das Leben.
URL:https://veranstaltungen-augsburg.de/event/theater-the-fear-of-13/2025-05-03/
LOCATION:Sensemble Theater\, Bergmühlstraße 34\, Augsburg\, 86153\, Deutschland
CATEGORIES:Bühne / Theater
ATTACH;FMTTYPE=image/jpeg:https://veranstaltungen-augsburg.de/wp-content/uploads/2023/07/SensembleSommer_aussen_foto-sensemble-theater_web.jpg
END:VEVENT
END:VCALENDAR