BEGIN:VCALENDAR
VERSION:2.0
PRODID:-//veranstaltungen-augsburg.de - ECPv6.15.20//NONSGML v1.0//EN
CALSCALE:GREGORIAN
METHOD:PUBLISH
X-WR-CALNAME:veranstaltungen-augsburg.de
X-ORIGINAL-URL:https://veranstaltungen-augsburg.de
X-WR-CALDESC:Veranstaltungen für veranstaltungen-augsburg.de
REFRESH-INTERVAL;VALUE=DURATION:PT1H
X-Robots-Tag:noindex
X-PUBLISHED-TTL:PT1H
BEGIN:VTIMEZONE
TZID:Europe/Berlin
BEGIN:DAYLIGHT
TZOFFSETFROM:+0100
TZOFFSETTO:+0200
TZNAME:CEST
DTSTART:20230326T010000
END:DAYLIGHT
BEGIN:STANDARD
TZOFFSETFROM:+0200
TZOFFSETTO:+0100
TZNAME:CET
DTSTART:20231029T010000
END:STANDARD
BEGIN:DAYLIGHT
TZOFFSETFROM:+0100
TZOFFSETTO:+0200
TZNAME:CEST
DTSTART:20240331T010000
END:DAYLIGHT
BEGIN:STANDARD
TZOFFSETFROM:+0200
TZOFFSETTO:+0100
TZNAME:CET
DTSTART:20241027T010000
END:STANDARD
BEGIN:DAYLIGHT
TZOFFSETFROM:+0100
TZOFFSETTO:+0200
TZNAME:CEST
DTSTART:20250330T010000
END:DAYLIGHT
BEGIN:STANDARD
TZOFFSETFROM:+0200
TZOFFSETTO:+0100
TZNAME:CET
DTSTART:20251026T010000
END:STANDARD
END:VTIMEZONE
BEGIN:VEVENT
DTSTART;TZID=Europe/Berlin:20240706T130000
DTEND;TZID=Europe/Berlin:20240706T130000
DTSTAMP:20260419T163901
CREATED:20240328T162247Z
LAST-MODIFIED:20240328T162247Z
UID:10014982-1720270800-1720270800@veranstaltungen-augsburg.de
SUMMARY:Kräutererlebniswanderung Sommerkräuter – wild\, bunt und gesund
DESCRIPTION:Im Sommer strotzen die Kräuter vor wertvollen Inhaltsstoffen\, bunten Blüten und heilkräftigen Bestandteilen. Bei einer Erlebniswanderung rund um die Baumschule Christoph erleben wir die Pflanzen am Wegesrand\, Waldrand oder Gewässerrand.  Dabei erfahren wir viel über ihren Nutzen in Hausapotheke\, Küche oder für unser Wohlbefinden. Geschichten und kulinarische Kostproben ergänzen das Erlebnis “Sommerkräuter”! \nBaumschule Christoph in Weichenberg/Aindling – Treffpunkt am Eingang der Baumschule\nKosten: 19 € inkl. Kostproben\, Rezepte und kleinem Geschenk\nAnmeldung bitte unter Tel. 0176/54449079 oder sophie.boesel@web.de \nFoto: Adobe Stock\, yanadjan
URL:https://veranstaltungen-augsburg.de/event/kraeutererlebniswanderung-sommerkraeuter-wild-bunt-und-gesund/
LOCATION:Baumschule Christoph\, Weichenberg 4\, Weichenberg\, 86447\, DE
CATEGORIES:Führungen,Natur,Naturführungen
ATTACH;FMTTYPE=image/jpeg:https://veranstaltungen-augsburg.de/wp-content/uploads/2024/01/AdobeStock_667685536_Von-yanadjan.jpg
GEO:48.479997;11.002442
X-APPLE-STRUCTURED-LOCATION;VALUE=URI;X-ADDRESS=Baumschule Christoph Weichenberg 4 Weichenberg 86447 DE;X-APPLE-RADIUS=500;X-TITLE=Weichenberg 4:geo:11.002442,48.479997
END:VEVENT
END:VCALENDAR