BEGIN:VCALENDAR
VERSION:2.0
PRODID:-//veranstaltungen-augsburg.de - ECPv6.15.20//NONSGML v1.0//EN
CALSCALE:GREGORIAN
METHOD:PUBLISH
X-WR-CALNAME:veranstaltungen-augsburg.de
X-ORIGINAL-URL:https://veranstaltungen-augsburg.de
X-WR-CALDESC:Veranstaltungen für veranstaltungen-augsburg.de
REFRESH-INTERVAL;VALUE=DURATION:PT1H
X-Robots-Tag:noindex
X-PUBLISHED-TTL:PT1H
BEGIN:VTIMEZONE
TZID:Europe/Berlin
BEGIN:DAYLIGHT
TZOFFSETFROM:+0100
TZOFFSETTO:+0200
TZNAME:CEST
DTSTART:20230326T010000
END:DAYLIGHT
BEGIN:STANDARD
TZOFFSETFROM:+0200
TZOFFSETTO:+0100
TZNAME:CET
DTSTART:20231029T010000
END:STANDARD
BEGIN:DAYLIGHT
TZOFFSETFROM:+0100
TZOFFSETTO:+0200
TZNAME:CEST
DTSTART:20240331T010000
END:DAYLIGHT
BEGIN:STANDARD
TZOFFSETFROM:+0200
TZOFFSETTO:+0100
TZNAME:CET
DTSTART:20241027T010000
END:STANDARD
BEGIN:DAYLIGHT
TZOFFSETFROM:+0100
TZOFFSETTO:+0200
TZNAME:CEST
DTSTART:20250330T010000
END:DAYLIGHT
BEGIN:STANDARD
TZOFFSETFROM:+0200
TZOFFSETTO:+0100
TZNAME:CET
DTSTART:20251026T010000
END:STANDARD
END:VTIMEZONE
BEGIN:VEVENT
DTSTART;TZID=Europe/Berlin:20240608T120000
DTEND;TZID=Europe/Berlin:20240608T120000
DTSTAMP:20260421T184755
CREATED:20240602T084651Z
LAST-MODIFIED:20240602T084651Z
UID:10017112-1717848000-1717848000@veranstaltungen-augsburg.de
SUMMARY:UPCYCLING NÄH-WORKSHOP
DESCRIPTION:Workshop mit Hazme Oktay \nBeim Upcycling-Nähworkshop hast du die Möglichkeit\, aus alten und aussortierten Materialien aus dem Outdoorbereich\, wie einer kaputten Isomatte\, alten Bannern und Zeltresten allerhand Nützliches für den täglichen oder sportlichen Gebrauch zu kreieren. \nUnter Anleitung der Upcyclistin und Modenäherin Hazme Oktay kannst du große Badetaschen\, Outdoor-Sitzkissen\, Beutel oder Sattelschoner nähen. Du bist herzlich eingeladen\, eigene Ideen\, die auch im Prozess entstehen\, sowie eigenes kaputtes Material mitzubringen\, das zu etwas Neuem verarbeitet werden soll. \nIm Idealfall besitzt du eine eigene Nähmaschine und bringst sie zum Workshop mit. Falls nicht\, stehen während des Workshops einige Maschinen bereit\, die ausgeliehen werden können. \nDer Workshop richtet sich sowohl an Nähanfänger als auch an Menschen mit Erfahrung im Nähen. \nZur Dozentin: Hazme Oktay ist ausgebildete Modenäherin und leidenschaftliche Upcyclistin\, Werklehrerin und Erzieherin. Unter ihrem Label „AugschburgerPuppe“ kreiert sie Neues aus Altem mit Liebe zum Detail. \nTreffpunkt: Clubhütte \n  \n  \nFoto: AdobeStock / irissca_web
URL:https://veranstaltungen-augsburg.de/event/upcycling-naeh-workshop/
LOCATION:Clubhütte\, Annastraße 11\, Augsburg\, 86150\, Deutschland
CATEGORIES:Handwerk,Kurse,Nachhaltigkeit
ATTACH;FMTTYPE=image/jpeg:https://veranstaltungen-augsburg.de/wp-content/uploads/2023/07/Upcycling_kleidung_AdobeStock_448373919_irissca_web.jpg
END:VEVENT
BEGIN:VEVENT
DTSTART;TZID=Europe/Berlin:20240606T170000
DTEND;TZID=Europe/Berlin:20240606T190000
DTSTAMP:20260421T184755
CREATED:20240602T084123Z
LAST-MODIFIED:20240602T084156Z
UID:10017111-1717693200-1717700400@veranstaltungen-augsburg.de
SUMMARY:Workshop: Wilde Frühjahrskräuter
DESCRIPTION:Workshop mit Ernestine Verdura\, zertifizierte Allgäuer Wildkräuterfrau\, Kneipp-Gesundheitstrainerin \nNachhaltig? – Natürlich! \nIm Frühling bieten unsere einheimischen wilden Kräuter und Blüten viele Möglichkeiten zur Herstellung kulinarischer Köstlichkeiten und sehr wirksamer gesundheitlicher Anwendungen. Das Besondere dabei: Brennnessel\, Giersch\, Spitzwegerich\, Knoblauchsrauke usw. gibt es ausschließlich regional\, saisonal\, unverpackt\, in bester Bioqualität und noch dazu gratis! \nIn unserem Workshop werden wir Heilsames und Leckeres daraus herstellen\, z.B. Wildkräutersuppe\, -smoothie\, -sirup\, eine Salbe und ein heilsames Öl. Alle Rezepte gibt es zum Mitnehmen. \nWann: Donnerstag\, 06.06.\, 17 Uhr; Dauer ca. 2 Stunden \nTreffpunkt: Clubhütte \nBitte mitbringen: \n– 2 Schraubgläser\, ca. 200 ml\n– 2 Schraubgläser\, ca. 100 ml\n– Messer\n– Schneidebrettchen \n  \nFoto: AdobeStock / Pawel
URL:https://veranstaltungen-augsburg.de/event/workshop-wilde-fruehjahrskraeuter/
LOCATION:Clubhütte\, Annastraße 11\, Augsburg\, 86150\, Deutschland
CATEGORIES:Ernährung,Gesundheit,Kurse,Nachhaltigkeit,Natur
ATTACH;FMTTYPE=image/jpeg:https://veranstaltungen-augsburg.de/wp-content/uploads/2024/05/Kraeuter_Hand_AdobeStock_171991585_Pawel.jpg
END:VEVENT
END:VCALENDAR