BEGIN:VCALENDAR
VERSION:2.0
PRODID:-//veranstaltungen-augsburg.de - ECPv6.15.20//NONSGML v1.0//EN
CALSCALE:GREGORIAN
METHOD:PUBLISH
X-ORIGINAL-URL:https://veranstaltungen-augsburg.de
X-WR-CALDESC:Veranstaltungen für veranstaltungen-augsburg.de
REFRESH-INTERVAL;VALUE=DURATION:PT1H
X-Robots-Tag:noindex
X-PUBLISHED-TTL:PT1H
BEGIN:VTIMEZONE
TZID:Europe/Berlin
BEGIN:DAYLIGHT
TZOFFSETFROM:+0100
TZOFFSETTO:+0200
TZNAME:CEST
DTSTART:20230326T010000
END:DAYLIGHT
BEGIN:STANDARD
TZOFFSETFROM:+0200
TZOFFSETTO:+0100
TZNAME:CET
DTSTART:20231029T010000
END:STANDARD
BEGIN:DAYLIGHT
TZOFFSETFROM:+0100
TZOFFSETTO:+0200
TZNAME:CEST
DTSTART:20240331T010000
END:DAYLIGHT
BEGIN:STANDARD
TZOFFSETFROM:+0200
TZOFFSETTO:+0100
TZNAME:CET
DTSTART:20241027T010000
END:STANDARD
BEGIN:DAYLIGHT
TZOFFSETFROM:+0100
TZOFFSETTO:+0200
TZNAME:CEST
DTSTART:20250330T010000
END:DAYLIGHT
BEGIN:STANDARD
TZOFFSETFROM:+0200
TZOFFSETTO:+0100
TZNAME:CET
DTSTART:20251026T010000
END:STANDARD
END:VTIMEZONE
BEGIN:VEVENT
DTSTART;TZID=Europe/Berlin:20240720T200000
DTEND;TZID=Europe/Berlin:20240720T200000
DTSTAMP:20260422T201009
CREATED:20240208T073939Z
LAST-MODIFIED:20240208T074412Z
UID:10013643-1721505600-1721505600@veranstaltungen-augsburg.de
SUMMARY:Konzert: Livemusik mit No worries mate
DESCRIPTION:Australian Folk – Musik\, Geschichten und Fotos von Down Under. \nWenn das Wetter gut ist\, ist der Abend als Openair-Abend geplant. \n  \nFoto: Adobe Stock\, C.Castilla
URL:https://veranstaltungen-augsburg.de/event/konzert-livemusik-mit-no-worries-mate/
LOCATION:Genusscafé Lützelburg\, Georgenstraße 15\, Lützelburg\, 86456\, Deutschland
CATEGORIES:Konzert
ATTACH;FMTTYPE=image/jpeg:https://veranstaltungen-augsburg.de/wp-content/uploads/2023/07/Gitarre_AdobeStock_162833983_-C.Castilla_quadratisch.jpg
END:VEVENT
BEGIN:VEVENT
DTSTART;TZID=Europe/Berlin:20240615T200000
DTEND;TZID=Europe/Berlin:20240615T200000
DTSTAMP:20260422T201009
CREATED:20240208T073631Z
LAST-MODIFIED:20240208T073831Z
UID:10013642-1718481600-1718481600@veranstaltungen-augsburg.de
SUMMARY:Konzert: Livemusik mit der Gruppe Valeu
DESCRIPTION:Neben dem allbekannten Samba und Bossa – Nova geht die Gruppe „valeu – musica do brasil“ zusammen mit Adelaide Kiefl zruück zu den Wurzeln der brasilianischen Instrumentalmusik des späten 19. Jahrhunderts: dem Choro\, einer spritzigen Mischung aus virtuosen Melodien\, jazzigen Harmonien und offbeatigen Rhythmen wie Samba\, Samba-Choro\, Maxixe und Baiao. \n\n\nReservierung über die Homepage oder über Tel: 08230/891079
URL:https://veranstaltungen-augsburg.de/event/konzert-livemusik-mit-der-gruppe-valeu/
LOCATION:Genusscafé Lützelburg\, Georgenstraße 15\, Lützelburg\, 86456\, Deutschland
CATEGORIES:Konzert
ATTACH;FMTTYPE=image/jpeg:https://veranstaltungen-augsburg.de/wp-content/uploads/2024/02/gruppe_valau.jpg
END:VEVENT
END:VCALENDAR