BEGIN:VCALENDAR
VERSION:2.0
PRODID:-//veranstaltungen-augsburg.de - ECPv6.15.20//NONSGML v1.0//EN
CALSCALE:GREGORIAN
METHOD:PUBLISH
X-WR-CALNAME:veranstaltungen-augsburg.de
X-ORIGINAL-URL:https://veranstaltungen-augsburg.de
X-WR-CALDESC:Veranstaltungen für veranstaltungen-augsburg.de
REFRESH-INTERVAL;VALUE=DURATION:PT1H
X-Robots-Tag:noindex
X-PUBLISHED-TTL:PT1H
BEGIN:VTIMEZONE
TZID:Europe/Berlin
BEGIN:DAYLIGHT
TZOFFSETFROM:+0100
TZOFFSETTO:+0200
TZNAME:CEST
DTSTART:20230326T010000
END:DAYLIGHT
BEGIN:STANDARD
TZOFFSETFROM:+0200
TZOFFSETTO:+0100
TZNAME:CET
DTSTART:20231029T010000
END:STANDARD
BEGIN:DAYLIGHT
TZOFFSETFROM:+0100
TZOFFSETTO:+0200
TZNAME:CEST
DTSTART:20240331T010000
END:DAYLIGHT
BEGIN:STANDARD
TZOFFSETFROM:+0200
TZOFFSETTO:+0100
TZNAME:CET
DTSTART:20241027T010000
END:STANDARD
BEGIN:DAYLIGHT
TZOFFSETFROM:+0100
TZOFFSETTO:+0200
TZNAME:CEST
DTSTART:20250330T010000
END:DAYLIGHT
BEGIN:STANDARD
TZOFFSETFROM:+0200
TZOFFSETTO:+0100
TZNAME:CET
DTSTART:20251026T010000
END:STANDARD
END:VTIMEZONE
BEGIN:VEVENT
DTSTART;TZID=Europe/Berlin:20240721T180000
DTEND;TZID=Europe/Berlin:20240721T193000
DTSTAMP:20260422T161809
CREATED:20240626T091338Z
LAST-MODIFIED:20240704T160539Z
UID:10018247-1721584800-1721590200@veranstaltungen-augsburg.de
SUMMARY:Friedensfest 2024: Wie egoistisch ist unsere Demokratie? | Diskussion
DESCRIPTION:Wie schafft es eine demokratische Gesellschaft\, ihre gesamtgesellschaftliche Entwicklung auf die global (SDGs) und lokal (Zukunftsleitlinien) politisch beschlossenen Nachhaltigkeitsziele hin auszurichten? \nUnser bisheriges Wirtschafts- und Wohlstandsmodell ist weder ökologisch noch weltweit möglich\, so das Ergebnis der Studien »Grenzen des Wachstum« (1972) und »Earth for all« (2022) des Club of Rome. Wohlstand und Lebensqualität müssen ressourcenärmer und solidarischer ausfallen und gelebt werden. Die Veränderungen hierfür müssen demokratisch herbeigeführt werden. Es gilt also\, Wege zu finden\, politische Mehrheiten zu organisieren\, die diese Veränderung starten und in der gebotenen Eile umsetzen. Das scheitert bisher. Denn diese Veränderungen sind auf den ersten Blick für die an den jetzigen Wohlstand Gewöhnten oft unangenehm. Es scheint\, dass Demokratie egoistisch im Sinne der jetzt Wählenden entscheidet\, im Sinne der hier und heute lebenden Menschen. Was ist mit denen\, die bei uns nicht mitwählen können – zukünftige Generationen\, Menschen jenseits unserer Staatsgrenze? Demokratie und nachhaltige Entwicklung – geht das? Es muss. \nVeranstalter*in\nBüro für Nachhaltigkeit der\nStadt Augsburg \nInfo und Kontakt\nnachhaltigkeit.augsburg.de\nagenda@augsburg.de\nTel. (0821) 324 73 25 \nWeitere Termine \nDie Veranstaltung findet im Rahmen der Ausstellung FRIEDENSKLIMA statt. Sie ist vom 2.7. bis 8.8. auf dem Moritzplatz zu sehen.\nDie Ausstellung und die vielfältigen Begleitveranstaltungen (Infoabende\, Aktionen\, Schulführungen …) stellen die Herausforderungen einer zukunftsfähigen Entwicklung dar und schlagen Handlungsmöglichkeiten vor. \nMitwirkende\nPolitisch Verantwortliche und für die Zukunft Engagierte
URL:https://veranstaltungen-augsburg.de/event/friedensfest-2024-wie-egoistisch-ist-unsere-demokratie-diskussion/
LOCATION:Moritzplatz\, Moritzplatz\, Augsburg\, 86150\, DE
CATEGORIES:Gesellschaft
ATTACH;FMTTYPE=image/jpeg:https://veranstaltungen-augsburg.de/wp-content/uploads/2024/06/Friedensfest-2024.jpg
GEO:48.367118;10.898229
X-APPLE-STRUCTURED-LOCATION;VALUE=URI;X-ADDRESS=Moritzplatz Moritzplatz Augsburg 86150 DE;X-APPLE-RADIUS=500;X-TITLE=Moritzplatz:geo:10.898229,48.367118
END:VEVENT
END:VCALENDAR