BEGIN:VCALENDAR
VERSION:2.0
PRODID:-//veranstaltungen-augsburg.de - ECPv6.15.20//NONSGML v1.0//EN
CALSCALE:GREGORIAN
METHOD:PUBLISH
X-WR-CALNAME:veranstaltungen-augsburg.de
X-ORIGINAL-URL:https://veranstaltungen-augsburg.de
X-WR-CALDESC:Veranstaltungen für veranstaltungen-augsburg.de
REFRESH-INTERVAL;VALUE=DURATION:PT1H
X-Robots-Tag:noindex
X-PUBLISHED-TTL:PT1H
BEGIN:VTIMEZONE
TZID:Europe/Berlin
BEGIN:DAYLIGHT
TZOFFSETFROM:+0100
TZOFFSETTO:+0200
TZNAME:CEST
DTSTART:20230326T010000
END:DAYLIGHT
BEGIN:STANDARD
TZOFFSETFROM:+0200
TZOFFSETTO:+0100
TZNAME:CET
DTSTART:20231029T010000
END:STANDARD
BEGIN:DAYLIGHT
TZOFFSETFROM:+0100
TZOFFSETTO:+0200
TZNAME:CEST
DTSTART:20240331T010000
END:DAYLIGHT
BEGIN:STANDARD
TZOFFSETFROM:+0200
TZOFFSETTO:+0100
TZNAME:CET
DTSTART:20241027T010000
END:STANDARD
BEGIN:DAYLIGHT
TZOFFSETFROM:+0100
TZOFFSETTO:+0200
TZNAME:CEST
DTSTART:20250330T010000
END:DAYLIGHT
BEGIN:STANDARD
TZOFFSETFROM:+0200
TZOFFSETTO:+0100
TZNAME:CET
DTSTART:20251026T010000
END:STANDARD
END:VTIMEZONE
BEGIN:VEVENT
DTSTART;TZID=Europe/Berlin:20240707T090000
DTEND;TZID=Europe/Berlin:20240707T090000
DTSTAMP:20260421T144007
CREATED:20240403T122214Z
LAST-MODIFIED:20240403T122214Z
UID:10015025-1720342800-1720342800@veranstaltungen-augsburg.de
SUMMARY:Lech-Exkursion: Zukunftsprojekt Bayerischer Lech
DESCRIPTION:Rad-Exkursion zum Thema „Renaturierung bayerischer Lech“ \nReferent: Thomas Frey\, BN-Regionalreferent für Schwaben \nTreffpunkt Theresienbrücke in Füssen \nAnmeldung und Informationen: Tel. 08362/92 33 498\nIlona Deckwerth\, Vorsitzende\, und Angelika Flierl\nstv. Vorsitzende der BN-Ortsgruppe Füssen \nFoto: Adobe Stock\, ARochau
URL:https://veranstaltungen-augsburg.de/event/lech-exkursion-zukunftsprojekt-bayerischer-lech/
CATEGORIES:Führungen,Nachhaltigkeit
ATTACH;FMTTYPE=image/jpeg:https://veranstaltungen-augsburg.de/wp-content/uploads/2023/09/Lech_AdobeStock_319670826_ARochau.jpg
END:VEVENT
END:VCALENDAR